BEGIN:VCALENDAR
VERSION:2.0
PRODID:-//Helmets to Hardhats - ECPv6.15.18//NONSGML v1.0//EN
CALSCALE:GREGORIAN
METHOD:PUBLISH
X-WR-CALNAME:Helmets to Hardhats
X-ORIGINAL-URL:https://h2h-new.matrixdev.net
X-WR-CALDESC:Events for Helmets to Hardhats
REFRESH-INTERVAL;VALUE=DURATION:PT1H
X-Robots-Tag:noindex
X-PUBLISHED-TTL:PT1H
BEGIN:VTIMEZONE
TZID:America/New_York
BEGIN:DAYLIGHT
TZOFFSETFROM:-0500
TZOFFSETTO:-0400
TZNAME:EDT
DTSTART:20210314T070000
END:DAYLIGHT
BEGIN:STANDARD
TZOFFSETFROM:-0400
TZOFFSETTO:-0500
TZNAME:EST
DTSTART:20211107T060000
END:STANDARD
BEGIN:DAYLIGHT
TZOFFSETFROM:-0500
TZOFFSETTO:-0400
TZNAME:EDT
DTSTART:20220313T070000
END:DAYLIGHT
BEGIN:STANDARD
TZOFFSETFROM:-0400
TZOFFSETTO:-0500
TZNAME:EST
DTSTART:20221106T060000
END:STANDARD
BEGIN:DAYLIGHT
TZOFFSETFROM:-0500
TZOFFSETTO:-0400
TZNAME:EDT
DTSTART:20230312T070000
END:DAYLIGHT
BEGIN:STANDARD
TZOFFSETFROM:-0400
TZOFFSETTO:-0500
TZNAME:EST
DTSTART:20231105T060000
END:STANDARD
BEGIN:DAYLIGHT
TZOFFSETFROM:-0500
TZOFFSETTO:-0400
TZNAME:EDT
DTSTART:20240310T070000
END:DAYLIGHT
BEGIN:STANDARD
TZOFFSETFROM:-0400
TZOFFSETTO:-0500
TZNAME:EST
DTSTART:20241103T060000
END:STANDARD
BEGIN:DAYLIGHT
TZOFFSETFROM:-0500
TZOFFSETTO:-0400
TZNAME:EDT
DTSTART:20250309T070000
END:DAYLIGHT
BEGIN:STANDARD
TZOFFSETFROM:-0400
TZOFFSETTO:-0500
TZNAME:EST
DTSTART:20251102T060000
END:STANDARD
END:VTIMEZONE
BEGIN:VTIMEZONE
TZID:America/Los_Angeles
BEGIN:DAYLIGHT
TZOFFSETFROM:-0800
TZOFFSETTO:-0700
TZNAME:PDT
DTSTART:20220313T100000
END:DAYLIGHT
BEGIN:STANDARD
TZOFFSETFROM:-0700
TZOFFSETTO:-0800
TZNAME:PST
DTSTART:20221106T090000
END:STANDARD
BEGIN:DAYLIGHT
TZOFFSETFROM:-0800
TZOFFSETTO:-0700
TZNAME:PDT
DTSTART:20230312T100000
END:DAYLIGHT
BEGIN:STANDARD
TZOFFSETFROM:-0700
TZOFFSETTO:-0800
TZNAME:PST
DTSTART:20231105T090000
END:STANDARD
BEGIN:DAYLIGHT
TZOFFSETFROM:-0800
TZOFFSETTO:-0700
TZNAME:PDT
DTSTART:20240310T100000
END:DAYLIGHT
BEGIN:STANDARD
TZOFFSETFROM:-0700
TZOFFSETTO:-0800
TZNAME:PST
DTSTART:20241103T090000
END:STANDARD
END:VTIMEZONE
BEGIN:VTIMEZONE
TZID:America/Phoenix
BEGIN:STANDARD
TZOFFSETFROM:-0700
TZOFFSETTO:-0700
TZNAME:MST
DTSTART:20220101T000000
END:STANDARD
END:VTIMEZONE
BEGIN:VTIMEZONE
TZID:America/Chicago
BEGIN:DAYLIGHT
TZOFFSETFROM:-0600
TZOFFSETTO:-0500
TZNAME:CDT
DTSTART:20220313T080000
END:DAYLIGHT
BEGIN:STANDARD
TZOFFSETFROM:-0500
TZOFFSETTO:-0600
TZNAME:CST
DTSTART:20221106T070000
END:STANDARD
BEGIN:DAYLIGHT
TZOFFSETFROM:-0600
TZOFFSETTO:-0500
TZNAME:CDT
DTSTART:20230312T080000
END:DAYLIGHT
BEGIN:STANDARD
TZOFFSETFROM:-0500
TZOFFSETTO:-0600
TZNAME:CST
DTSTART:20231105T070000
END:STANDARD
BEGIN:DAYLIGHT
TZOFFSETFROM:-0600
TZOFFSETTO:-0500
TZNAME:CDT
DTSTART:20240310T080000
END:DAYLIGHT
BEGIN:STANDARD
TZOFFSETFROM:-0500
TZOFFSETTO:-0600
TZNAME:CST
DTSTART:20241103T070000
END:STANDARD
END:VTIMEZONE
BEGIN:VEVENT
DTSTART;TZID=America/New_York:20240402T080000
DTEND;TZID=America/New_York:20240406T170000
DTSTAMP:20260419T082318
CREATED:20240402T173729Z
LAST-MODIFIED:20240402T173729Z
UID:7228-1712044800-1712422800@h2h-new.matrixdev.net
SUMMARY:Test Image
DESCRIPTION:
URL:https://h2h-new.matrixdev.net/event/test-image/
CATEGORIES:DC
ATTACH;FMTTYPE=image/png:https://h2h-new.matrixdev.net/wp-content/uploads/2024/04/HIRING-OUR-HEROES-4.16-Event-1.png
END:VEVENT
BEGIN:VEVENT
DTSTART;TZID=America/New_York:20230518T083000
DTEND;TZID=America/New_York:20230518T140000
DTSTAMP:20260419T082318
CREATED:20230213T131103Z
LAST-MODIFIED:20230213T131103Z
UID:7207-1684398600-1684418400@h2h-new.matrixdev.net
SUMMARY:Fort Bliss Annual Transition EXPO
DESCRIPTION:
URL:https://h2h-new.matrixdev.net/event/fort-bliss-annual-transition-expo/
LOCATION:Fort Bliss\, 11199 Sergeant E Churchill\, Fort Bliss\, TX\, 79916
CATEGORIES:TX
END:VEVENT
BEGIN:VEVENT
DTSTART;TZID=America/Los_Angeles:20230419T103000
DTEND;TZID=America/Los_Angeles:20230419T113000
DTSTAMP:20260419T082318
CREATED:20230213T131640Z
LAST-MODIFIED:20230213T131640Z
UID:7210-1681900200-1681903800@h2h-new.matrixdev.net
SUMMARY:DC16 Painters Open House
DESCRIPTION:
URL:https://h2h-new.matrixdev.net/event/dc16-painters-open-house/
LOCATION:DC16 IUPAT\, Henderson\, NV
CATEGORIES:NV
ATTACH;FMTTYPE=image/jpeg:https://h2h-new.matrixdev.net/wp-content/uploads/2022/09/painter-img.jpg
END:VEVENT
BEGIN:VEVENT
DTSTART;TZID=America/Los_Angeles:20230324T100000
DTEND;TZID=America/Los_Angeles:20230324T130000
DTSTAMP:20260419T082318
CREATED:20230213T132057Z
LAST-MODIFIED:20230213T132057Z
UID:7213-1679652000-1679662800@h2h-new.matrixdev.net
SUMMARY:Women in Construction Career Event
DESCRIPTION:
URL:https://h2h-new.matrixdev.net/event/women-in-construction-career-event/
LOCATION:Nor Cal Carpenters Training Center\, 800 Chadbourne Road\, FairField\, CA\, 94534
CATEGORIES:CA
ATTACH;FMTTYPE=image/jpeg:https://h2h-new.matrixdev.net/wp-content/uploads/2022/09/carpenter_img.jpg
END:VEVENT
BEGIN:VEVENT
DTSTART;TZID=America/Phoenix:20230225T114500
DTEND;TZID=America/Phoenix:20230225T120000
DTSTAMP:20260419T082318
CREATED:20230110T143445Z
LAST-MODIFIED:20230110T144156Z
UID:7142-1677325500-1677326400@h2h-new.matrixdev.net
SUMMARY:Demolition Phoenix
DESCRIPTION:
URL:https://h2h-new.matrixdev.net/event/demolition-phoenix/
LOCATION:Phoenix\, Arizona\, Phoenix\, AZ
CATEGORIES:AZ
ATTACH;FMTTYPE=image/png:https://h2h-new.matrixdev.net/wp-content/uploads/2023/01/convention_23.png
END:VEVENT
BEGIN:VEVENT
DTSTART;TZID=America/New_York:20230215T110000
DTEND;TZID=America/New_York:20230215T130000
DTSTAMP:20260419T082318
CREATED:20221121T135211Z
LAST-MODIFIED:20221121T154700Z
UID:6117-1676458800-1676466000@h2h-new.matrixdev.net
SUMMARY:Joint Base Lewis-McChord’s Brown Bag Transition Event
DESCRIPTION:
URL:https://h2h-new.matrixdev.net/event/joint-base-lewis-mcchords-brown-bag-transition-event-2/
LOCATION:Hawk Career Center\, Joint Base Lewis-McChord\, 11577 41st Division Drive\, JBLM (Lewis-North)\, WA\, 98433
CATEGORIES:WA
ATTACH;FMTTYPE=image/png:https://h2h-new.matrixdev.net/wp-content/uploads/2022/11/JBLM-TAP-Brown-Bag-Hiring-Fair.pdf.png
END:VEVENT
BEGIN:VEVENT
DTSTART;TZID=America/New_York:20230208T090000
DTEND;TZID=America/New_York:20230208T130000
DTSTAMP:20260419T082318
CREATED:20221121T135523Z
LAST-MODIFIED:20221121T154728Z
UID:6119-1675846800-1675861200@h2h-new.matrixdev.net
SUMMARY:Reno Connect Veterans Job Fair
DESCRIPTION:
URL:https://h2h-new.matrixdev.net/event/reno-connect-veterans-job-fair/
LOCATION:4001 South Virginia Road\, 4001 South Virginia Road\, Reno\, NV
CATEGORIES:NV
END:VEVENT
BEGIN:VEVENT
DTSTART;TZID=America/New_York:20230125T110000
DTEND;TZID=America/New_York:20230125T130000
DTSTAMP:20260419T082318
CREATED:20221121T134911Z
LAST-MODIFIED:20221121T154801Z
UID:6113-1674644400-1674651600@h2h-new.matrixdev.net
SUMMARY:Joint Base Lewis-McChord’s Brown Bag Transition Event
DESCRIPTION:
URL:https://h2h-new.matrixdev.net/event/joint-base-lewis-mcchords-brown-bag-transition-event/
LOCATION:Hawk Career Center\, Joint Base Lewis-McChord\, 11577 41st Division Drive\, JBLM (Lewis-North)\, WA\, 98433
CATEGORIES:WA
ATTACH;FMTTYPE=image/png:https://h2h-new.matrixdev.net/wp-content/uploads/2022/11/JBLM-TAP-Brown-Bag-Hiring-Fair.pdf.png
END:VEVENT
BEGIN:VEVENT
DTSTART;TZID=America/Chicago:20230118T180000
DTEND;TZID=America/Chicago:20230118T210000
DTSTAMP:20260419T082318
CREATED:20230110T144040Z
LAST-MODIFIED:20230110T144533Z
UID:7146-1674064800-1674075600@h2h-new.matrixdev.net
SUMMARY:Chicago Veterans Liberty Call
DESCRIPTION:
URL:https://h2h-new.matrixdev.net/event/chicago-veterans-liberty-call/
LOCATION:American Legion Post 735\, 6945 W. Archer Ave.\, Chicago\, IL\, 60638
CATEGORIES:IL
END:VEVENT
BEGIN:VEVENT
DTSTART;TZID=America/New_York:20221212T100000
DTEND;TZID=America/New_York:20221212T130000
DTSTAMP:20260419T082318
CREATED:20221121T134332Z
LAST-MODIFIED:20221129T165026Z
UID:6110-1670839200-1670850000@h2h-new.matrixdev.net
SUMMARY:Travis AFB Transition Assistance Program Outreach Session
DESCRIPTION:
URL:https://h2h-new.matrixdev.net/event/travis-afb-transition-assistance-program-outreach-session/
LOCATION:Fairfield\, Fairfield\, CA
CATEGORIES:CA
ATTACH;FMTTYPE=image/png:https://h2h-new.matrixdev.net/wp-content/uploads/2022/11/af-logo-seal.png
END:VEVENT
BEGIN:VEVENT
DTSTART;TZID=America/New_York:20221206T083000
DTEND;TZID=America/New_York:20221206T160000
DTSTAMP:20260419T082318
CREATED:20221121T134051Z
LAST-MODIFIED:20221121T154920Z
UID:6107-1670315400-1670342400@h2h-new.matrixdev.net
SUMMARY:Veterans in the CA Building Trades Seminar
DESCRIPTION:2nd Annual California Veterans of the Building Trades Seminar! \nCelebrating the contributions of Veterans in the Building Trades\, &educating participants on how to recruit the next generation of Veterans into the trades. \nPlease consider sending someone to participate in this one-day seminar that will recognize veterans for their service to our country and will teach participants ways they can help other veterans connect to quality careers in the Building & Construction Trades. \nThere will be presentations that educate participants on how to connect to connect to different Reserve & National Guard Units throughout the state. \nAdditionally\, participants will get information on how they can get the most out of the Helmets to Hardhats program as well as ways their veterans can fully utilize their VA benefits. \nThere will be raffle prizes and more! \nRegister Today!
URL:https://h2h-new.matrixdev.net/event/veterans-in-the-ca-building-trades-seminar/
LOCATION:State Building & Construction Trades Council of California\, 1231 I Street\, Suite 303\, Sacramento\, CA\, 95814
CATEGORIES:CA
END:VEVENT
BEGIN:VEVENT
DTSTART;VALUE=DATE:20221122
DTEND;VALUE=DATE:20221123
DTSTAMP:20260419T082318
CREATED:20221121T133424Z
LAST-MODIFIED:20221121T154935Z
UID:6104-1669075200-1669161599@h2h-new.matrixdev.net
SUMMARY:Attending Veteran Stand Down
DESCRIPTION:
URL:https://h2h-new.matrixdev.net/event/attending-veteran-stand-down/
LOCATION:2 E. Oak Street\, 2 E. Oak Street\, Stockton\, CA
CATEGORIES:CA
END:VEVENT
BEGIN:VEVENT
DTSTART;VALUE=DATE:20221109
DTEND;VALUE=DATE:20221213
DTSTAMP:20260419T082318
CREATED:20221128T224628Z
LAST-MODIFIED:20221212T190207Z
UID:6816-1667952000-1670889599@h2h-new.matrixdev.net
SUMMARY:Annual Toys for Tots Toy Drive
DESCRIPTION:
URL:https://h2h-new.matrixdev.net/event/annual-toys-for-tots-toy-drive/
LOCATION:Helmets to Hardhats\, 815 16th\, NW\, Suite 600\, Washington\, DC\, 20006
CATEGORIES:DC
ATTACH;FMTTYPE=image/png:https://h2h-new.matrixdev.net/wp-content/uploads/2022/11/Toys-for-Tots-jparsley@matrixgroup.net-Matrix-Group-International-Mail.png
END:VEVENT
END:VCALENDAR