BEGIN:VCALENDAR
VERSION:2.0
PRODID:-//Helmets to Hardhats - ECPv6.15.18//NONSGML v1.0//EN
CALSCALE:GREGORIAN
METHOD:PUBLISH
X-ORIGINAL-URL:https://h2h-new.matrixdev.net
X-WR-CALDESC:Events for Helmets to Hardhats
REFRESH-INTERVAL;VALUE=DURATION:PT1H
X-Robots-Tag:noindex
X-PUBLISHED-TTL:PT1H
BEGIN:VTIMEZONE
TZID:America/Los_Angeles
BEGIN:DAYLIGHT
TZOFFSETFROM:-0800
TZOFFSETTO:-0700
TZNAME:PDT
DTSTART:20220313T100000
END:DAYLIGHT
BEGIN:STANDARD
TZOFFSETFROM:-0700
TZOFFSETTO:-0800
TZNAME:PST
DTSTART:20221106T090000
END:STANDARD
BEGIN:DAYLIGHT
TZOFFSETFROM:-0800
TZOFFSETTO:-0700
TZNAME:PDT
DTSTART:20230312T100000
END:DAYLIGHT
BEGIN:STANDARD
TZOFFSETFROM:-0700
TZOFFSETTO:-0800
TZNAME:PST
DTSTART:20231105T090000
END:STANDARD
BEGIN:DAYLIGHT
TZOFFSETFROM:-0800
TZOFFSETTO:-0700
TZNAME:PDT
DTSTART:20240310T100000
END:DAYLIGHT
BEGIN:STANDARD
TZOFFSETFROM:-0700
TZOFFSETTO:-0800
TZNAME:PST
DTSTART:20241103T090000
END:STANDARD
END:VTIMEZONE
BEGIN:VTIMEZONE
TZID:America/New_York
BEGIN:DAYLIGHT
TZOFFSETFROM:-0500
TZOFFSETTO:-0400
TZNAME:EDT
DTSTART:20220313T070000
END:DAYLIGHT
BEGIN:STANDARD
TZOFFSETFROM:-0400
TZOFFSETTO:-0500
TZNAME:EST
DTSTART:20221106T060000
END:STANDARD
BEGIN:DAYLIGHT
TZOFFSETFROM:-0500
TZOFFSETTO:-0400
TZNAME:EDT
DTSTART:20230312T070000
END:DAYLIGHT
BEGIN:STANDARD
TZOFFSETFROM:-0400
TZOFFSETTO:-0500
TZNAME:EST
DTSTART:20231105T060000
END:STANDARD
BEGIN:DAYLIGHT
TZOFFSETFROM:-0500
TZOFFSETTO:-0400
TZNAME:EDT
DTSTART:20240310T070000
END:DAYLIGHT
BEGIN:STANDARD
TZOFFSETFROM:-0400
TZOFFSETTO:-0500
TZNAME:EST
DTSTART:20241103T060000
END:STANDARD
END:VTIMEZONE
BEGIN:VEVENT
DTSTART;TZID=America/Los_Angeles:20230419T103000
DTEND;TZID=America/Los_Angeles:20230419T113000
DTSTAMP:20260419T113030
CREATED:20230213T131640Z
LAST-MODIFIED:20230213T131640Z
UID:7210-1681900200-1681903800@h2h-new.matrixdev.net
SUMMARY:DC16 Painters Open House
DESCRIPTION:
URL:https://h2h-new.matrixdev.net/event/dc16-painters-open-house/
LOCATION:DC16 IUPAT\, Henderson\, NV
CATEGORIES:NV
ATTACH;FMTTYPE=image/jpeg:https://h2h-new.matrixdev.net/wp-content/uploads/2022/09/painter-img.jpg
END:VEVENT
BEGIN:VEVENT
DTSTART;TZID=America/New_York:20230208T090000
DTEND;TZID=America/New_York:20230208T130000
DTSTAMP:20260419T113030
CREATED:20221121T135523Z
LAST-MODIFIED:20221121T154728Z
UID:6119-1675846800-1675861200@h2h-new.matrixdev.net
SUMMARY:Reno Connect Veterans Job Fair
DESCRIPTION:
URL:https://h2h-new.matrixdev.net/event/reno-connect-veterans-job-fair/
LOCATION:4001 South Virginia Road\, 4001 South Virginia Road\, Reno\, NV
CATEGORIES:NV
END:VEVENT
END:VCALENDAR